BEGIN:VCALENDAR
VERSION:2.0
PRODID:-//VCA Education - ECPv6.15.20//NONSGML v1.0//EN
CALSCALE:GREGORIAN
METHOD:PUBLISH
X-ORIGINAL-URL:https://vcaeducation.ca
X-WR-CALDESC:Events for VCA Education
REFRESH-INTERVAL;VALUE=DURATION:PT1H
X-Robots-Tag:noindex
X-PUBLISHED-TTL:PT1H
BEGIN:VTIMEZONE
TZID:America/Toronto
BEGIN:DAYLIGHT
TZOFFSETFROM:-0500
TZOFFSETTO:-0400
TZNAME:EDT
DTSTART:20180311T070000
END:DAYLIGHT
BEGIN:STANDARD
TZOFFSETFROM:-0400
TZOFFSETTO:-0500
TZNAME:EST
DTSTART:20181104T060000
END:STANDARD
BEGIN:DAYLIGHT
TZOFFSETFROM:-0500
TZOFFSETTO:-0400
TZNAME:EDT
DTSTART:20190310T070000
END:DAYLIGHT
BEGIN:STANDARD
TZOFFSETFROM:-0400
TZOFFSETTO:-0500
TZNAME:EST
DTSTART:20191103T060000
END:STANDARD
BEGIN:DAYLIGHT
TZOFFSETFROM:-0500
TZOFFSETTO:-0400
TZNAME:EDT
DTSTART:20200308T070000
END:DAYLIGHT
BEGIN:STANDARD
TZOFFSETFROM:-0400
TZOFFSETTO:-0500
TZNAME:EST
DTSTART:20201101T060000
END:STANDARD
END:VTIMEZONE
BEGIN:VEVENT
DTSTART;TZID=America/Toronto:20191018T073000
DTEND;TZID=America/Toronto:20191018T170000
DTSTAMP:20260424T023524
CREATED:20190527T184347Z
LAST-MODIFIED:20190710T184833Z
UID:10000157-1571383800-1571418000@vcaeducation.ca
SUMMARY:Vascular Ultrasound Education Day
DESCRIPTION:VENUE: Canon Medical Systems Canada\, 8000 Mississauga Rd Brampton\,\, ON L6Y 0C3 Map \n\n\n\n \nIn partnership with Canon Medical Systems Canada\n\n \n\n\n\n Number of Seats is Limited\n\n\n\n\n  \n\n\n\nEarly bird Fee\n $180 (+HST)\nDeadline August 21\, 2019\n\n\nRegular Fee \n $220 (+HST)\nDeadline October 13\, 2019\, 11:59 p.m.\n\n\n\n  \nSTUDENTS can use the coupon code “ student ” for 13% discount and need to  email a copy of their student ID to valhamouche@vcaeducation.ca \nAbout the Education Day \nThe focus of this Education Day is on Vascular Ultrasound Lectures and Hands-on experience.\nAttendees will be able to:\n1. Understand the essential components of professional practice for diagnostic medical sonographers.\n2. Know basic history about the advent of Doppler\n3. Explain what vascular sonography is and involves\n4. List uses of vascular ultrasound in medical imaging\n5. Understand relevant terminology and hemodynamics\n6. List examples in Sonography from Africa and Sonography above the Arctic Circle.\n7. Practice Upper Extremity Venous Sonography\n8. Practice Renal Doppler and Renal Artery Stenosis\n9. Know and practice some upper extremity venous scanning techniques\n10. Recognize normal upper extremity venous sonographic features\n11. List some of the common pathologies affecting upper extremity veins\n12 Understand renal artery stenosis\n13. Recognize common sonographic features of renal artery stenosis\n14. Describe sonographic features seen in patients with renal artery stenosis\n \nDownload Schedule  \n  \nAccreditation \n \n \nThis 7.5 hours CME Education Day Content has been accredited by Sonography Canada; it has been assigned 7.5 Credits (Type SB=7.5) . We provide certificate of attendance. \nScroll Down   to Register Online (credit card or paypal)\, or download the Registration Form (Cheque)  \n\n			\n				\n			\n			Audience\n		\n\n		\n			Objectives\n		\n\n		\n			Speakers\n		\n\n		\n			Schedule\n		\n\n		\n			Location\n		\n		 \n\n		\n			\n				\n					\n			Sonographers\n		\n\n		\n			\n1. Understand the essential components of professional practice for diagnostic medical sonographers.\n2. Know basic history about the advent of Doppler\n3. Explain what vascular sonography is and involves\n4. List uses of vascular ultrasound in medical imaging\n5. Understand relevant terminology and hemodynamics\n6. List examples in Sonography from Africa and Sonography above the Arctic Circle.\n7. Practice Upper Extremity Venous Sonography\n8. Practice Renal Doppler and Renal Artery Stenosis\n9. Know and practice some upper extremity venous scanning techniques\n10. Recognize normal upper extremity venous sonographic features\n11. List some of the common pathologies affecting upper extremity veins\n12 Understand renal artery stenosis\n13. Recognize common sonographic features of renal artery stenosis\n14. Describe sonographic features seen in patients with renal artery stenosis\n\n		 \n\n		\n			\n\n\n\n\n\n\n\n– Ms. Linda Gough\, MRT(R)\, BSc\, MPA – CMRTO Registrar\n– Mr. Leonardo Faundez MA-Ed\, BSc\, RTNM\, RDMS\, CRGS\, CRVS\, Sonographer & Entrepreneur\n– Mr. Ray Lappalainen DMS\, RTR\, CRGS\, Director OAMRS\, CMRTO transitional Council member \n\nShort Biographies \nMs. Linda Gough: Linda Gough is the Registrar & CEO at the College of Medical Radiation Technologists of Ontario (CMRTO). Linda obtained her diploma in radiography from the Michener Institute for Applied Health Sciences in Toronto. In addition\, Linda holds a Bachelor of Science from the University of Waterloo and a Master’s in Public Policy from Queen’s University in Kingston\, Ontario.\nLinda is an advocate for the self-regulation of professions and believes that by involving the professionals themselves in the development of standards used by regulators\, along with public members\, professions can effectively regulate in the public interest.\nLinda is a founding member of the Alliance of Medical Radiation Technologists Regulators of Canada and is pleased to be currently serving as its President.   \nMr. Leonardo Faundez: Leonardo Faundez has been in the ultrasound field for 18+ years as a sonographer\, professor\, entrepreneur\, and lecturer.\nHe is currently working in three roles: (1) owner/founder of Aprende Canada where he offers continuing education to sonographers and ultrasound education consulting\, (2) Clinical Education Specialist at Exact Imaging in charge of the training program for users of a new high-resolution transrectal ultrasound system\, and (3) a casual sonographer at University Health Network (UHN).\nHe recently started a partnership with the OAMRS in developing sonography courses based on my Aprende Canada instructional videos.\nHe worked as a full-time sonographer and clinical instructor for about 7 years at UHN and small healthcare facilities to then be an ultrasound faculty at The Michener Institute of Education at UHN for 10 years.\nHe has a Master degree in education from Central Michigan University and has published two articles in the Canadian Journal of Medical Sonography (CJMS) on creating an inexpensive scrotal scanning phantom.\nHe has  presented at several national and provincial conferences on several sonography topics.\nHe enjoys travelling with his wife\, playing soccer and DJing. \nMr. Ray Lappalainen: Ray has been a sonographer for over 35 years. He has worked in various capacities in the profession: a sole sonographer in a small hospital\, sonographer in large teaching hospital\, clinical instructor\, senior sonographer in a teaching hospital\, applications specialist for an ultrasound sales company\, and an assistant manager of a diagnostic imaging department. Ray has been involved with ultrasound education and have had positions on the board of directors of provincial and national ultrasound associations for many years\, and he now sits on the Council of the CMRTO as one of the sonographer representatives.
URL:https://vcaeducation.ca/event/vascular-ultrasound-education-day-oct2019-18/
LOCATION:8000 Mississauga Rd\, Brampton\, ON L6Y 5Z\, 8000 Mississauga Rd\, Brampton\, Ontario\, L6Y 5Z\, Canada
GEO:43.6277515;-79.7783238
X-APPLE-STRUCTURED-LOCATION;VALUE=URI;X-ADDRESS=8000 Mississauga Rd Brampton ON L6Y 5Z 8000 Mississauga Rd Brampton Ontario L6Y 5Z Canada;X-APPLE-RADIUS=500;X-TITLE=8000 Mississauga Rd:geo:-79.7783238,43.6277515
END:VEVENT
BEGIN:VEVENT
DTSTART;TZID=America/Toronto:20191017T073000
DTEND;TZID=America/Toronto:20191017T170000
DTSTAMP:20260424T023524
CREATED:20190514T010813Z
LAST-MODIFIED:20191003T203546Z
UID:10000143-1571297400-1571331600@vcaeducation.ca
SUMMARY:MSK Ultrasound Education Day: Upper and Lower Extremities
DESCRIPTION:VENUE: Canon Medical Systems Canada\, 8000 Mississauga Rd Brampton\,\, ON L6Y 0C3 Map \n \n\n\n\n \nIn partnership with Canon Medical Systems Canada\n\n \n\n\n\n Number of Seats is Limited\n\n\n\n\n  \n\n\n\nEarly bird Fee\n $180 (+HST)\nDeadline August 21\, 2019\n\n\nRegular Fee \n $220 (+HST)\nDeadline October 13\, 2019\, 11:59 p.m.\n\n\n\n  \nSTUDENTS can use the coupon code “ student ” for 13% discount and need to  email a copy of their student ID to valhamouche@vcaeducation.ca \nAbout the Education Day \nThe focus of this Education Day is on MSK Ultrasound Upper and Lower Extremities Lectures and Hands-on experience.\nAttendees will be able to:\n1. Understand the anatomy\, pathology and practice the techniques of scanning musculoskeletal ultrasound.\n2. Understand the anatomy\, pathology and practice the techniques of scanning the calf.\n3. Understand the anatomy\, pathology and practice the techniques of scanning the knee.\n4. Understand the anatomy\, pathology and practice the techniques of scanning the elbow.\n5. Understand the anatomy\, pathology and practice the techniques of scanning the shoulder.\n6. Understand the anatomy\, important pathology and practice the techniques of scanning the wrist/hip/ankle.\n7. Understand Compassionate Care\n \nDownload Schedule  \n  \nAccreditation \n \n \nThis 8 hours CME Education Day Content has been accredited by Sonography Canada; it has been assigned 8 Credits (Type SB=6.75; Type RP=1.25) . We provide certificate of attendance. \nScroll Down   to Register Online (credit card or paypal)\, or download the Registration Form (Cheque)  \n\n			\n				\n			\n			Audience\n		\n\n		\n			Objectives\n		\n\n		\n			Speakers\n		\n\n		\n			Schedule\n		\n\n		\n			Location\n		\n		 \n\n		\n			\n				\n					\n			Sonographers\n		\n\n		\n			\n1. Understand the anatomy\, pathology and practice the techniques of scanning musculoskeletal ultrasound.\n2. Understand the anatomy\, pathology and practice the techniques of scanning the calf.\n3. Understand the anatomy\, pathology and practice the techniques of scanning the knee.\n4. Understand the anatomy\, pathology and practice the techniques of scanning the elbow.\n5. Understand the anatomy\, pathology and practice the techniques of scanning the shoulder.\n6. Understand the anatomy\, important pathology and practice the techniques of scanning the wrist/hip/ankle.\n7. Understand Compassionate Care\n\n		 \n\n		\n			\n\n\n\n\n\n\n\n– Mr. Glenn Gabrielpillai\, B Sc. Biomedical Sciences\, RMT (DMS)\, CRGS\, RDMS\, RVT\n– Mr. John R. Peacock \,CRGS\, Educator\n\nShort Biographies \nMr. Glenn Gabrielpillai : Mr. Glenn Gabrielpillai has been a credentialed sonographer for 8 years\, graduating in 2011 from the Michener Institute. He has worked at numerous sites across Ontario\, including hospitals and clinics. Glenn has also taught at the Canadian National Institute of Health as an instructor for their DMS program. I took an early interest in MSK ultrasound due to my previous credentialing in personal training and have pursued education in that regard. I have since run several workshops in MSK ultrasound\, both privately and with CNIH.   \nMr. John R. Peacock: Mr. PEACOCK graduated with Dean’s Honour’s from MoHawk College from all Healthcare programs he attended\, including both Radiography and Diagnostic Medical Sonography. He is a past recipient\, of the Upjohn Ltd Award for Patient Care and the Toshiba Canada Ltd award for Outstanding Achievement in Ultrasound Imaging Procedures. John received invaluable clinical experience at the Henderson General Hospital (associated with the Regional Cancer Centre)\, St. Joseph’s Hospital and McMaster University Medical Centre in Hamilton\, Ontario which is the reason he was sought out to set up and run the Community Based Ultrasound Program for Sioux Lookout Zone remote regions. On behalf of Health Canada he was recruited by former Zone Hospital\, and the University of Toronto’s Northern Medical Program in Sioux Lookout Ontario\, for a 3 month pilot project to set up the Community Outreach Ultrasound Program beginning February 1\, 1996. He decided to stay and work the program as both administrator and active sonographer because he saw the value of the program in saving mothers and their unborn children in this underserviced remote region. He worked full time for over twenty years to ensure the First Nation’s people in the Sioux Lookout Zone had quality Diagnostic Sonography in their communities\, reducing wait times and benefits similar to the rest of the country. He left that position in the spring of 2017 and now has time for his other passion of educating and spreading the word about Adverse Childhood Experiences and the effects trauma has on children and the adults they become on which he has a unique perspective working with this population.
URL:https://vcaeducation.ca/event/msk-ultrasound-education-day-upper-and-lower-extremities-oct2019/
LOCATION:8000 Mississauga Rd\, Brampton\, ON L6Y 5Z\, 8000 Mississauga Rd\, Brampton\, Ontario\, L6Y 5Z\, Canada
GEO:43.6277515;-79.7783238
X-APPLE-STRUCTURED-LOCATION;VALUE=URI;X-ADDRESS=8000 Mississauga Rd Brampton ON L6Y 5Z 8000 Mississauga Rd Brampton Ontario L6Y 5Z Canada;X-APPLE-RADIUS=500;X-TITLE=8000 Mississauga Rd:geo:-79.7783238,43.6277515
END:VEVENT
END:VCALENDAR