BEGIN:VCALENDAR
VERSION:2.0
PRODID:-//VCA Education - ECPv6.15.20//NONSGML v1.0//EN
CALSCALE:GREGORIAN
METHOD:PUBLISH
X-WR-CALNAME:VCA Education
X-ORIGINAL-URL:https://vcaeducation.ca
X-WR-CALDESC:Events for VCA Education
REFRESH-INTERVAL;VALUE=DURATION:PT1H
X-Robots-Tag:noindex
X-PUBLISHED-TTL:PT1H
BEGIN:VTIMEZONE
TZID:America/Toronto
BEGIN:DAYLIGHT
TZOFFSETFROM:-0500
TZOFFSETTO:-0400
TZNAME:EDT
DTSTART:20190310T070000
END:DAYLIGHT
BEGIN:STANDARD
TZOFFSETFROM:-0400
TZOFFSETTO:-0500
TZNAME:EST
DTSTART:20191103T060000
END:STANDARD
BEGIN:DAYLIGHT
TZOFFSETFROM:-0500
TZOFFSETTO:-0400
TZNAME:EDT
DTSTART:20200308T070000
END:DAYLIGHT
BEGIN:STANDARD
TZOFFSETFROM:-0400
TZOFFSETTO:-0500
TZNAME:EST
DTSTART:20201101T060000
END:STANDARD
BEGIN:DAYLIGHT
TZOFFSETFROM:-0500
TZOFFSETTO:-0400
TZNAME:EDT
DTSTART:20210314T070000
END:DAYLIGHT
BEGIN:STANDARD
TZOFFSETFROM:-0400
TZOFFSETTO:-0500
TZNAME:EST
DTSTART:20211107T060000
END:STANDARD
END:VTIMEZONE
BEGIN:VEVENT
DTSTART;VALUE=DATE:20200404
DTEND;VALUE=DATE:20200406
DTSTAMP:20260423T215520
CREATED:20200203T221145Z
LAST-MODIFIED:20200404T123540Z
UID:10000166-1585958400-1586131199@vcaeducation.ca
SUMMARY:Two Days Live Webinar- Bridging the Gap with the Canadian Professional Practice in Radiography
DESCRIPTION:April 4\, 2020:\n8:30 a.m.-5:00 p.m.\n\n\nApril 5\, 2020:\n8:30 a.m.-5:00 p.m.\n\n\nRegistration \n$260 (+HST)\n\n\n\n\n  \nAbout the Tutorial \nThe focus of this Tutorial for IEMRT is the Canadian Professional Practice in Radiography;\nDay 1 Objectives \n\nRecognize the importance of CAMRT competency profile as a guide for the Exam.\nIntroduction to the required competencies of the following modules:\n\nProfessional Practice\nPatient Management\nHealth and Safety\nOperation of Radiographic and Fluoroscopic equipment\n\n\n\nDay 2 Objectives \n\nIntroduction to the Procedure management module with the focus on skeletal Anatomy\, Pathology and Image evaluation.\nIntroduction to Contrast media and contrast procedures.\nIntroduction to CT instrumentation\, Image quality and protocols.\n\nScroll Down   to Register Online (credit card or paypal)\, or download the Registration Form (Cheque)  \n\n			\n				\n			\n			Audience\n		\n\n		\n			Objectives\n		\n\n		\n			Speakers\n		\n\n		\n			Schedule\n		\n\n		\n			Location\n		\n		 \n\n		\n			\n				\n					\n			Internationally Educated Medical Radiation Technologists (IEMRT)\n		\n\n		\n			Day 1 Objectives \n\n\n\n1) Recognize the importance of CAMRT competency profile as a guide for the Exam.\n2) Introduction to the required competencies of the following modules:\n-Professional Practice\n-Patient Management\n-Health and Safety\n-Operation of Radiographic and Fluoroscopic equipment\n\n\n\nDay 2 Objectives \n\n\n\n\n\n1) Introduction to the Procedure management module with the focus on skeletal Anatomy\, Pathology and Image evaluation.\n2) Introduction to Contrast media and contrast procedures.\n3) Introduction to CT instrumentation\, Image quality and protocols.\n\n\n\n\n\n		\n\n		\n			\n\n\n \nVALENTINA AL HAMOUCHE MRT(R)\, MSc.; CEO VCA Education\n\n\n\n		 \n\n		\n			 \n \n		\n\n		\n			Accessible by TTC : Buses No 25\, 185\, 54\, or 162
URL:https://vcaeducation.ca/event/two-days-bridging-the-gap-with-the-canadian-professional-practice-in-radiography-april-4-52020/
LOCATION:Toronto\, Ontario\, Canada
CATEGORIES:Bridging The Gap
GEO:43.653226;-79.3831843
END:VEVENT
END:VCALENDAR