BEGIN:VCALENDAR
VERSION:2.0
PRODID:-//VCA Education - ECPv6.15.20//NONSGML v1.0//EN
CALSCALE:GREGORIAN
METHOD:PUBLISH
X-ORIGINAL-URL:https://vcaeducation.ca
X-WR-CALDESC:Events for VCA Education
REFRESH-INTERVAL;VALUE=DURATION:PT1H
X-Robots-Tag:noindex
X-PUBLISHED-TTL:PT1H
BEGIN:VTIMEZONE
TZID:America/Toronto
BEGIN:DAYLIGHT
TZOFFSETFROM:-0500
TZOFFSETTO:-0400
TZNAME:EDT
DTSTART:20180311T070000
END:DAYLIGHT
BEGIN:STANDARD
TZOFFSETFROM:-0400
TZOFFSETTO:-0500
TZNAME:EST
DTSTART:20181104T060000
END:STANDARD
BEGIN:DAYLIGHT
TZOFFSETFROM:-0500
TZOFFSETTO:-0400
TZNAME:EDT
DTSTART:20190310T070000
END:DAYLIGHT
BEGIN:STANDARD
TZOFFSETFROM:-0400
TZOFFSETTO:-0500
TZNAME:EST
DTSTART:20191103T060000
END:STANDARD
BEGIN:DAYLIGHT
TZOFFSETFROM:-0500
TZOFFSETTO:-0400
TZNAME:EDT
DTSTART:20200308T070000
END:DAYLIGHT
BEGIN:STANDARD
TZOFFSETFROM:-0400
TZOFFSETTO:-0500
TZNAME:EST
DTSTART:20201101T060000
END:STANDARD
END:VTIMEZONE
BEGIN:VEVENT
DTSTART;TZID=America/Toronto:20190302T110000
DTEND;TZID=America/Toronto:20190302T140000
DTSTAMP:20260423T223147
CREATED:20190116T025318Z
LAST-MODIFIED:20190116T030414Z
UID:10000145-1551524400-1551535200@vcaeducation.ca
SUMMARY:Webinar - Bridging the Gap with the Canadian Professional Practice in Radiography
DESCRIPTION:Saturday March 2nd\, 2019: 3 hours Lecture webinar \n\n\n11:00 a.m.-2:00 p.m.(Eastern Time)\n\n\n04:00 p.m.-7:00 p.m.(GMT)\n\n  \n\nSunday March 3rd\, 2019: 2 hours Q&A webinar\n\n\n11:00 a.m.-01:00 p.m.(Eastern Time)\n\n\n04:00 p.m.-6:00 p.m.(GMT)\n\n  \n\nRegistration for both webinars: $150 (+HST)\n\n\nAfter registration you will receive information to access both Webinars\n\n\n\n  \nAbout the Tutorial \nThe focus of this Tutorial for IEMRT is the Canadian Professional Practice in Radiography;\n \nWebinar Objectives\n 1-Recognize the importance of CAMRT competency profile as a guide for the Exam.\n 2-Introduction to the required competencies of the following modules:\n 2.1 Professional Practice\n 2.2 Patient Management\n 2.3 Health and Safety\n 2.4 Radiographic Image assessment \nDownload Schedule  \nScroll Down   to Register Online (credit card or paypal)  \n\n			\n				\n			\n			Audience\n		\n\n		\n			Objectives\n		\n\n		\n			Speakers\n		\n\n		\n			Schedule\n		 \n		 \n\n		\n			\n				\n					\n			Internationally Educated Medical Radiation Technologists (IEMRT)\n		\n\n		\n			Webinar Objectives \n\nRecognize the importance of CAMRT competency profile as a guide for the Exam.\nIntroduction to the required competencies of the following modules:\n \nProfessional Practice \nPatient Management\nHealth and Safety\nRadiographic Image assessment\n\n\n		\n\n		\n			\n\n\n \nVALENTINA AL HAMOUCHE\nMRT (R)\, MSc.; CEO VCA Education\n\n\nValentina holds an M.Sc. Health Systems Management\, London School of Hygiene and Tropical Medicine\, University of London\, UK and B.Sc. (Hons) in Radiography Anglia Polytechnic University\, Cambridge\, UK Applied Health Sciences Department\, Division of Radiography. She has also received a FAETC: Further Adult and Education Teacher’s Certificate from the College of North-East London\, UK (1991)\, and a Diploma in Radiologic Technology American University of Beirut-Medical Centre Radiologic Technology Training Program\, Lebanon. In 1994\, she has pursued further education and training in radiation safety sponsored by the International Atomic Energy Agency (IAEA) at the International Center of Theoretical Physics (ICTP) in Trieste Italy. She has over 25 years of radiography teaching experience at different Universities in Canada and abroad. She is a registration committee member at the College of Radiological Technologists of Ontario (CMRTO). She is certified with the Canadian Association of Medical Radiation Technologists (CAMRT). In 2017 she founded VCA Education Solutions for Health Professionals\, Inc. In 2018\, she was appointed to represent CMRTO at Accreditation Canada.
URL:https://vcaeducation.ca/event/webinar-bridging-the-gap-with-the-canadian-professional-practice-in-radiography-march2019-2-3/
LOCATION:Online\, Toronto\, Ontario\, Canada
GEO:43.653226;-79.3831843
END:VEVENT
BEGIN:VEVENT
DTSTART;TZID=America/Toronto:20190105T110000
DTEND;TZID=America/Toronto:20190105T140000
DTSTAMP:20260423T223147
CREATED:20181209T011956Z
LAST-MODIFIED:20181218T055546Z
UID:10000152-1546686000-1546696800@vcaeducation.ca
SUMMARY:Webinar - Bridging the Gap with the Canadian Professional Practice in Radiography
DESCRIPTION:Saturday January 5th\, 2019: 3 hours Lecture webinar \n\n\n11:00 a.m.-2:00 p.m.(Eastern Time)\n\n\n04:00 p.m.-7:00 p.m.(GMT)\n\nThursday January 10th\, 2019: 1 hour Q&A webinar\n\n11:00 a.m.-12:00 p.m.(Eastern Time)\n\n\n04:00 p.m.-5:00 p.m.(GMT)\n\n\nRegistration for both webinars\n$150 (+HST)\n\n\nAfter registration you will receive information to access both Webinars\n\n\n\n\n  \nAbout the Tutorial \nThe focus of this Tutorial for IEMRT is the Canadian Professional Practice in Radiography;\n \nWebinar Objectives\n 1-Recognize the importance of CAMRT competency profile as a guide for the Exam.\n 2-Introduction to the required competencies of the following modules:\n 2.1 Professional Practice\n 2.2 Patient Management\n 2.3 Health and Safety\n 2.4 Radiographic Image assessment \nScroll Down   to Register Online (credit card or paypal)  \n\n			\n				\n			\n			Audience\n		\n\n		\n			Objectives\n		\n\n		\n			Speakers\n		\n\n		\n			Schedule\n		 \n		 \n\n		\n			\n				\n					\n			Internationally Educated Medical Radiation Technologists (IEMRT)\n		\n\n		\n			Webinar Objectives \n\nRecognize the importance of CAMRT competency profile as a guide for the Exam.\nIntroduction to the required competencies of the following modules:\n \nProfessional Practice \nPatient Management\nHealth and Safety\nRadiographic Image assessment\n\n\n		\n\n		\n			\n\n\n \nVALENTINA AL HAMOUCHE\nMRT (R)\, MSc.; CEO VCA Education\n\n\nValentina holds an M.Sc. Health Systems Management\, London School of Hygiene and Tropical Medicine\, University of London\, UK and B.Sc. (Hons) in Radiography Anglia Polytechnic University\, Cambridge\, UK Applied Health Sciences Department\, Division of Radiography. She has also received a FAETC: Further Adult and Education Teacher’s Certificate from the College of North-East London\, UK (1991)\, and a Diploma in Radiologic Technology American University of Beirut-Medical Centre Radiologic Technology Training Program\, Lebanon. In 1994\, she has pursued further education and training in radiation safety sponsored by the International Atomic Energy Agency (IAEA) at the International Center of Theoretical Physics (ICTP) in Trieste Italy. She has over 25 years of radiography teaching experience at different Universities in Canada and abroad. She is a registration committee member at the College of Radiological Technologists of Ontario (CMRTO). She is certified with the Canadian Association of Medical Radiation Technologists (CAMRT). In 2017 she founded VCA Education Solutions for Health Professionals\, Inc. In 2018\, she was appointed to represent CMRTO at Accreditation Canada.
URL:https://vcaeducation.ca/event/webinar-bridging-the-gap-with-the-canadian-professional-practice-in-radiography-jan2019/
LOCATION:Online\, Toronto\, Ontario\, Canada
GEO:43.653226;-79.3831843
END:VEVENT
END:VCALENDAR