BEGIN:VCALENDAR
VERSION:2.0
PRODID:-//VCA Education - ECPv6.15.20//NONSGML v1.0//EN
CALSCALE:GREGORIAN
METHOD:PUBLISH
X-ORIGINAL-URL:https://vcaeducation.ca
X-WR-CALDESC:Events for VCA Education
REFRESH-INTERVAL;VALUE=DURATION:PT1H
X-Robots-Tag:noindex
X-PUBLISHED-TTL:PT1H
BEGIN:VTIMEZONE
TZID:America/Toronto
BEGIN:DAYLIGHT
TZOFFSETFROM:-0500
TZOFFSETTO:-0400
TZNAME:EDT
DTSTART:20160313T070000
END:DAYLIGHT
BEGIN:STANDARD
TZOFFSETFROM:-0400
TZOFFSETTO:-0500
TZNAME:EST
DTSTART:20161106T060000
END:STANDARD
BEGIN:DAYLIGHT
TZOFFSETFROM:-0500
TZOFFSETTO:-0400
TZNAME:EDT
DTSTART:20170312T070000
END:DAYLIGHT
BEGIN:STANDARD
TZOFFSETFROM:-0400
TZOFFSETTO:-0500
TZNAME:EST
DTSTART:20171105T060000
END:STANDARD
BEGIN:DAYLIGHT
TZOFFSETFROM:-0500
TZOFFSETTO:-0400
TZNAME:EDT
DTSTART:20180311T070000
END:DAYLIGHT
BEGIN:STANDARD
TZOFFSETFROM:-0400
TZOFFSETTO:-0500
TZNAME:EST
DTSTART:20181104T060000
END:STANDARD
BEGIN:DAYLIGHT
TZOFFSETFROM:-0500
TZOFFSETTO:-0400
TZNAME:EDT
DTSTART:20190310T070000
END:DAYLIGHT
BEGIN:STANDARD
TZOFFSETFROM:-0400
TZOFFSETTO:-0500
TZNAME:EST
DTSTART:20191103T060000
END:STANDARD
BEGIN:DAYLIGHT
TZOFFSETFROM:-0500
TZOFFSETTO:-0400
TZNAME:EDT
DTSTART:20200308T070000
END:DAYLIGHT
BEGIN:STANDARD
TZOFFSETFROM:-0400
TZOFFSETTO:-0500
TZNAME:EST
DTSTART:20201101T060000
END:STANDARD
END:VTIMEZONE
BEGIN:VEVENT
DTSTART;VALUE=DATE:20191214
DTEND;VALUE=DATE:20191216
DTSTAMP:20260423T232927
CREATED:20191004T151753Z
LAST-MODIFIED:20191014T211739Z
UID:10000158-1576281600-1576454399@vcaeducation.ca
SUMMARY:Two Days - Bridging the Gap with the Canadian Professional Practice in Radiography
DESCRIPTION:VENUE: 1 Overland Dr. TORONTO\, ON M3C 2C3 + Map \n\n\n\nDecember 14\, 2019:\n8:30 a.m.-5:00 p.m.\n\n\nDecember 15\, 2019:\n8:30 a.m.-5:00 p.m.\n\n\nRegistration \n$260 (+HST)\n\n\n\n\n  \nAbout the Tutorial \nThe focus of this Tutorial for IEMRT is the Canadian Professional Practice in Radiography;\nDay 1 Objectives \n\nRecognize the importance of CAMRT competency profile as a guide for the Exam.\nIntroduction to the required competencies of the following modules:\n \nProfessional Practice \nPatient Management\nHealth and Safety\nOperation of Radiographic and Fluoroscopic equipment\n\n\nDay 2 Objectives \n\nIntroduction to the Procedure management module with the focus on skeletal Anatomy\, Pathology and Image evaluation.\nIntroduction to Contrast media and contrast procedures.\nIntroduction to CT instrumentation\, Image quality and protocols.\n\nScroll Down   to Register Online (credit card or paypal)\, or download the Registration Form (Cheque)  \n\n			\n				\n			\n			Audience\n		\n\n		\n			Objectives\n		\n\n		\n			Speakers\n		\n\n		\n			Schedule\n		\n\n		\n			Location\n		\n		 \n\n		\n			\n				\n					\n			Internationally Educated Medical Radiation Technologists (IEMRT)\n		\n\n		\n			Day 1 Objectives \n\n1) Recognize the importance of CAMRT competency profile as a guide for the Exam.\n2) Introduction to the required competencies of the following modules:\n-Professional Practice \n-Patient Management\n-Health and Safety\n-Operation of Radiographic and Fluoroscopic equipment\nDay 2 Objectives \n\n1) Introduction to the Procedure management module with the focus on skeletal Anatomy\, Pathology and Image evaluation.\n2) Introduction to Contrast media and contrast procedures.\n3) Introduction to CT instrumentation\, Image quality and protocols.\n		\n\n		\n			\n\n\n\nVALENTINA AL HAMOUCHE \nMRT (R)\, MSc.; CEO VCA Education\n\nSHEETAL RUPARELIA \nMRT(R)\n\n\n\n		 \n\n		\n			 \n \n		\n\n		\n			Accessible by TTC : Buses No 25\, 185\, 54\, or 162
URL:https://vcaeducation.ca/event/two-days-bridging-the-gap-with-the-canadian-professional-practice-in-radiography/
LOCATION:Better Living – The Donway W Toronto\, 1 Overland Dr.\, Toronto\, Ontario\, M3C 2C3\, Canada
CATEGORIES:Bridging The Gap
GEO:43.7324815;-79.3467684
X-APPLE-STRUCTURED-LOCATION;VALUE=URI;X-ADDRESS=Better Living – The Donway W Toronto 1 Overland Dr. Toronto Ontario M3C 2C3 Canada;X-APPLE-RADIUS=500;X-TITLE=1 Overland Dr.:geo:-79.3467684,43.7324815
END:VEVENT
BEGIN:VEVENT
DTSTART;VALUE=DATE:20190810
DTEND;VALUE=DATE:20190812
DTSTAMP:20260423T232927
CREATED:20190506T191928Z
LAST-MODIFIED:20190806T141659Z
UID:10000141-1565395200-1565567999@vcaeducation.ca
SUMMARY:Two Days - Bridging the Gap with the Canadian Professional Practice in Radiography
DESCRIPTION:VENUE: 1 Overland Dr. TORONTO\, ON M3C 2C3 + Map \n\n\n\nAugust 10\, 2019:\n8:30 a.m.-5:00 p.m.\n\n\nAugust 11\, 2019:\n8:30 a.m.-5:00 p.m.\n\n\nRegistration \n$250 (+HST)\n\n\n\n\n  \nAbout the Tutorial \nThe focus of this Tutorial for IEMRT is the Canadian Professional Practice in Radiography;\nDay 1 Objectives \n\nRecognize the importance of CAMRT competency profile as a guide for the Exam.\nIntroduction to the required competencies of the following modules:\n \nProfessional Practice \nPatient Management\nHealth and Safety\nOperation of Radiographic and Fluoroscopic equipment\n\n\nDay 2 Objectives \n\nIntroduction to the Procedure management module with the focus on skeletal Anatomy\, Pathology and Image evaluation.\nIntroduction to Contrast media and contrast procedures.\nIntroduction to CT instrumentation\, Image quality and protocols.\n\nScroll Down   to Register Online (credit card or paypal)\, or download the Registration Form (Cheque)  \n\n			\n				\n			\n			Audience\n		\n\n		\n			Objectives\n		\n\n		\n			Speakers\n		\n\n		\n			Schedule\n		\n\n		\n			Location\n		\n		 \n\n		\n			\n				\n					\n			Internationally Educated Medical Radiation Technologists (IEMRT)\n		\n\n		\n			Day 1 Objectives \n\n1) Recognize the importance of CAMRT competency profile as a guide for the Exam.\n2) Introduction to the required competencies of the following modules:\n-Professional Practice \n-Patient Management\n-Health and Safety\n-Operation of Radiographic and Fluoroscopic equipment\nDay 2 Objectives \n\n1) Introduction to the Procedure management module with the focus on skeletal Anatomy\, Pathology and Image evaluation.\n2) Introduction to Contrast media and contrast procedures.\n3) Introduction to CT instrumentation\, Image quality and protocols.\n		\n\n		\n			\n\n\n\nVALENTINA AL HAMOUCHE \nMRT (R)\, MSc.; CEO VCA Education\n\nSHEETAL RUPARELIA \nMRT(R)\n\n\n\n		 \n\n		\n			 \n \n		\n\n		\n			Accessible by TTC : Buses No 25\, 185\, 54\, or 162
URL:https://vcaeducation.ca/event/two-days-bridging-the-gap-with-the-canadian-professional-practice-in-radiography-aug2019-2/
LOCATION:Better Living – The Donway W Toronto\, 1 Overland Dr.\, Toronto\, Ontario\, M3C 2C3\, Canada
GEO:43.7324815;-79.3467684
X-APPLE-STRUCTURED-LOCATION;VALUE=URI;X-ADDRESS=Better Living – The Donway W Toronto 1 Overland Dr. Toronto Ontario M3C 2C3 Canada;X-APPLE-RADIUS=500;X-TITLE=1 Overland Dr.:geo:-79.3467684,43.7324815
END:VEVENT
BEGIN:VEVENT
DTSTART;VALUE=DATE:20190427
DTEND;VALUE=DATE:20190429
DTSTAMP:20260423T232927
CREATED:20181011T042012Z
LAST-MODIFIED:20181011T042042Z
UID:10000134-1556323200-1556495999@vcaeducation.ca
SUMMARY:Two Days - Bridging the Gap with the Canadian Professional Practice in Radiography
DESCRIPTION:VENUE: 1 Overland Dr. TORONTO\, ON M3C 2C3 + Map \n\n\n\nApril 27\, 2019:\n8:30 a.m.-5:00 p.m.\n\n\nApril 28\, 2019:\n8:30 a.m.-5:00 p.m.\n\n\nRegistration \n$250 (+HST)\n\n\n\n\n  \nAbout the Tutorial \nThe focus of this Tutorial for IEMRT is the Canadian Professional Practice in Radiography;\nDay 1 Objectives \n\nRecognize the importance of CAMRT competency profile as a guide for the Exam.\nIntroduction to the required competencies of the following modules:\n \nProfessional Practice \nPatient Management\nHealth and Safety\nOperation of Radiographic and Fluoroscopic equipment\n\n\nDay 2 Objectives \n\nIntroduction to the Procedure management module with the focus on skeletal Anatomy\, Pathology and Image evaluation.\nIntroduction to Contrast media and contrast procedures.\nIntroduction to CT instrumentation\, Image quality and protocols.\n\nScroll Down   to Register Online (credit card or paypal)\, or download the Registration Form (Cheque)  \n\n			\n				\n			\n			Audience\n		\n\n		\n			Objectives\n		\n\n		\n			Speakers\n		\n\n		\n			Schedule\n		\n\n		\n			Location\n		\n		 \n\n		\n			\n				\n					\n			Internationally Educated Medical Radiation Technologists (IEMRT)\n		\n\n		\n			Day 1 Objectives \n\n1) Recognize the importance of CAMRT competency profile as a guide for the Exam.\n2) Introduction to the required competencies of the following modules:\n-Professional Practice \n-Patient Management\n-Health and Safety\n-Operation of Radiographic and Fluoroscopic equipment\nDay 2 Objectives \n\n1) Introduction to the Procedure management module with the focus on skeletal Anatomy\, Pathology and Image evaluation.\n2) Introduction to Contrast media and contrast procedures.\n3) Introduction to CT instrumentation\, Image quality and protocols.\n		\n\n		\n			\n\n\n\nVALENTINA AL HAMOUCHE \nMRT (R)\, MSc.; CEO VCA Education\n\nSHEETAL RUPARELIA \nMRT(R)\n\n\n\n		 \n\n		\n			 \n \n		\n\n		\n			Accessible by TTC : Buses No 25\, 185\, 54\, or 162
URL:https://vcaeducation.ca/event/two-days-bridging-the-gap-with-the-canadian-professional-practice-in-radiography-apr2019/
LOCATION:Better Living – The Donway W Toronto\, 1 Overland Dr.\, Toronto\, Ontario\, M3C 2C3\, Canada
GEO:43.7324815;-79.3467684
X-APPLE-STRUCTURED-LOCATION;VALUE=URI;X-ADDRESS=Better Living – The Donway W Toronto 1 Overland Dr. Toronto Ontario M3C 2C3 Canada;X-APPLE-RADIUS=500;X-TITLE=1 Overland Dr.:geo:-79.3467684,43.7324815
END:VEVENT
BEGIN:VEVENT
DTSTART;VALUE=DATE:20181215
DTEND;VALUE=DATE:20181217
DTSTAMP:20260423T232927
CREATED:20180615T230730Z
LAST-MODIFIED:20180615T234314Z
UID:10000122-1544832000-1545004799@vcaeducation.ca
SUMMARY:Two Days - Bridging the Gap with the Canadian Professional Practice in Radiography
DESCRIPTION:VENUE: 1 Overland Dr. TORONTO\, ON M3C 2C3 + Map \n\n\n\nDecember 15\, 2018:\n8:30 a.m.-5:00 p.m.\n\n\nDecember 16\, 2018:\n8:30 a.m.-5:00 p.m.\n\n\nRegistration \n$250 (+HST)\n\n\n\n\n  \nAbout the Tutorial \nThe focus of this Tutorial for IEMRT is the Canadian Professional Practice in Radiography;\nDay 1 Objectives \n\nRecognize the importance of CAMRT competency profile as a guide for the Exam.\nIntroduction to the required competencies of the following modules:\n \nProfessional Practice \nPatient Management\nHealth and Safety\nOperation of Radiographic and Fluoroscopic equipment\n\n\nDay 2 Objectives \n\nIntroduction to the Procedure management module with the focus on skeletal Anatomy\, Pathology and Image evaluation.\nIntroduction to Contrast media and contrast procedures.\nIntroduction to CT instrumentation\, Image quality and protocols.\n\nScroll Down   to Register Online (credit card or paypal)\, or download the Registration Form (Cheque)  \n\n			\n				\n			\n			Audience\n		\n\n		\n			Objectives\n		\n\n		\n			Speakers\n		\n\n		\n			Schedule\n		\n\n		\n			Location\n		\n		 \n\n		\n			\n				\n					\n			Internationally Educated Medical Radiation Technologists (IEMRT)\n		\n\n		\n			Day 1 Objectives \n\n1) Recognize the importance of CAMRT competency profile as a guide for the Exam.\n2) Introduction to the required competencies of the following modules:\n-Professional Practice \n-Patient Management\n-Health and Safety\n-Operation of Radiographic and Fluoroscopic equipment\nDay 2 Objectives \n\n1) Introduction to the Procedure management module with the focus on skeletal Anatomy\, Pathology and Image evaluation.\n2) Introduction to Contrast media and contrast procedures.\n3) Introduction to CT instrumentation\, Image quality and protocols.\n		\n\n		\n			\n\n\n\nVALENTINA AL HAMOUCHE \nMRT (R)\, MSc.; CEO VCA Education\n\nSHEETAL RUPARELIA \nMRT(R)\n\n\n\n		 \n\n		\n			 \n \n		\n\n		\n			Accessible by TTC : Buses No 25\, 185\, 54\, or 162
URL:https://vcaeducation.ca/event/two-days-bridging-the-gap-with-the-canadian-professional-practice-in-radiography-dec2018/
LOCATION:Better Living – The Donway W Toronto\, 1 Overland Dr.\, Toronto\, Ontario\, M3C 2C3\, Canada
GEO:43.7324815;-79.3467684
X-APPLE-STRUCTURED-LOCATION;VALUE=URI;X-ADDRESS=Better Living – The Donway W Toronto 1 Overland Dr. Toronto Ontario M3C 2C3 Canada;X-APPLE-RADIUS=500;X-TITLE=1 Overland Dr.:geo:-79.3467684,43.7324815
END:VEVENT
BEGIN:VEVENT
DTSTART;VALUE=DATE:20180811
DTEND;VALUE=DATE:20180813
DTSTAMP:20260423T232927
CREATED:20180417T221240Z
LAST-MODIFIED:20180615T234659Z
UID:10000114-1533945600-1534118399@vcaeducation.ca
SUMMARY:Two Days - Bridging the Gap with the Canadian Professional Practice in Radiography
DESCRIPTION:VENUE: 1 Overland Dr. TORONTO\, ON M3C 2C3 + Map \n\n\n\nAugust 11\, 2018:\n8:30 a.m.-5:00 p.m.\n\n\nAugust 12\, 2018:\n8:30 a.m.-5:00 p.m.\n\n\nRegistration \n$250 (+HST)\n\n\n\n\n  \nAbout the Tutorial \nThe focus of this Tutorial for IEMRT is the Canadian Professional Practice in Radiography;\nDay 1 Objectives \n\nRecognize the importance of CAMRT competency profile as a guide for the Exam.\nIntroduction to the required competencies of the following modules:\n \nProfessional Practice \nPatient Management\nHealth and Safety\nOperation of Radiographic and Fluoroscopic equipment\n\n\nDay 2 Objectives \n\nIntroduction to the Procedure management module with the focus on skeletal Anatomy\, Pathology and Image evaluation.\nIntroduction to Contrast media and contrast procedures.\nIntroduction to CT instrumentation\, Image quality and protocols.\n\nScroll Down   to Register Online (credit card or paypal)\, or download the Registration Form (Cheque)  \n\n			\n				\n			\n			Audience\n		\n\n		\n			Objectives\n		\n\n		\n			Speakers\n		\n\n		\n			Schedule\n		\n\n		\n			Location\n		\n		 \n\n		\n			\n				\n					\n			Internationally Educated Medical Radiation Technologists (IEMRT)\n		\n\n		\n			Day 1 Objectives \n\n1) Recognize the importance of CAMRT competency profile as a guide for the Exam.\n2) Introduction to the required competencies of the following modules:\n-Professional Practice \n-Patient Management\n-Health and Safety\n-Operation of Radiographic and Fluoroscopic equipment\nDay 2 Objectives \n\n1) Introduction to the Procedure management module with the focus on skeletal Anatomy\, Pathology and Image evaluation.\n2) Introduction to Contrast media and contrast procedures.\n3) Introduction to CT instrumentation\, Image quality and protocols.\n		\n\n		\n			\n\n\n\nVALENTINA AL HAMOUCHE \nMRT (R)\, MSc.; CEO VCA Education\n\nSHEETAL RUPARELIA \nMRT(R)\n\n\n\n		 \n\n		\n			 \n \n		\n\n		\n			Accessible by TTC : Buses No 25\, 185\, 54\, or 162
URL:https://vcaeducation.ca/event/bridging-the-gap-with-the-canadian-professional-practice-in-radiography-2/
LOCATION:Better Living – The Donway W Toronto\, 1 Overland Dr.\, Toronto\, Ontario\, M3C 2C3\, Canada
GEO:43.7324815;-79.3467684
X-APPLE-STRUCTURED-LOCATION;VALUE=URI;X-ADDRESS=Better Living – The Donway W Toronto 1 Overland Dr. Toronto Ontario M3C 2C3 Canada;X-APPLE-RADIUS=500;X-TITLE=1 Overland Dr.:geo:-79.3467684,43.7324815
END:VEVENT
BEGIN:VEVENT
DTSTART;TZID=America/Toronto:20180415T083000
DTEND;TZID=America/Toronto:20180415T170000
DTSTAMP:20260423T232927
CREATED:20171213T073010Z
LAST-MODIFIED:20171224T020614Z
UID:10000130-1523781000-1523811600@vcaeducation.ca
SUMMARY:Bridging the Gap with the Canadian Professional Practice in Radiography
DESCRIPTION:VENUE: 1 Overland Dr. TORONTO\, ON M3C 2C3 + Map \n\n\n\nRegistration \n$140 (+HST)\n\n\n\n\n  \nAbout the Tutorial \nThe focus of this Tutorial for IEMRT is the Canadian Professional Practice in Radiography; the tutorial objectives include:\nThe focus of this Tutorial for IEMRT is the Canadian Professional Practice in Radiography;\n1. To identify the gaps that may exist due to differences in practice from your experience and the Canadian experience in Radiography\n2. To introduce the CAMRT Competency Profile with a focus on the Professional Practice\, Patient Management\, and Skeletal Modules as applied to practice in a Canadian healthcare work environment\n3. To develop a systematic approach to radiographic image analysis\n4. To introduce Computed Tomography image processing principles: windowing and Multiplanar reconstruction.\n5 to Review CT relational anatomy images of the head\, chest\, abdomen and pelvis\n6. To introduce common contrast media studies (barium\, iodinated)\n7. To test your knowledge through a competency based Quiz. \nScroll Down   to Register Online (credit card or paypal)\, or download the Registration Form (Cheque)  \n\n			\n				\n			\n			Audience\n		\n\n		\n			Objectives\n		\n\n		\n			Schedule\n		\n\n		\n			Location\n		\n		 \n\n		\n			\n				\n					\n			Internationally Educated Medical Radiation Technologists (IEMRT)\n		\n\n		\n			\n1) To identify the gaps that may exist due to differences in practice from your experience and the Canadian experience in Radiography\n2) To introduce the CAMRT Competency Profile with a focus on the Professional Practice and Patient Management Modules as applied to practice in a Canadian healthcare work environment\n3) To develop a systematic approach to radiographic image analysis\n4) To test your knowledge through a competency based Quiz\n\n		 \n\n		\n			 \n		\n\n		\n			Accessible by TTC : Buses No 25\, 185\, 54\, or 162
URL:https://vcaeducation.ca/event/bridging-the-gap-with-the-canadian-professional-practice-in-radiography/
LOCATION:Better Living – The Donway W Toronto\, 1 Overland Dr.\, Toronto\, Ontario\, M3C 2C3\, Canada
GEO:43.7324815;-79.3467684
X-APPLE-STRUCTURED-LOCATION;VALUE=URI;X-ADDRESS=Better Living – The Donway W Toronto 1 Overland Dr. Toronto Ontario M3C 2C3 Canada;X-APPLE-RADIUS=500;X-TITLE=1 Overland Dr.:geo:-79.3467684,43.7324815
END:VEVENT
BEGIN:VEVENT
DTSTART;TZID=America/Toronto:20171217T083000
DTEND;TZID=America/Toronto:20171217T170000
DTSTAMP:20260423T232927
CREATED:20170929T071011Z
LAST-MODIFIED:20171211T050613Z
UID:10000126-1513499400-1513530000@vcaeducation.ca
SUMMARY:Bridging the Gap with the Canadian Professional Practice in Radiography
DESCRIPTION:VENUE: 1 Overland Dr. TORONTO\, ON M3C 2C3 + Map \n\n\n\nRegistration \n$140 (+HST)\n\n\n\n\n  \nAbout the Tutorial \nThe focus of this Tutorial for IEMRT is the Canadian Professional Practice in Radiography; the tutorial objectives include:\nThe focus of this Tutorial for IEMRT is the Canadian Professional Practice in Radiography;\n1. To identify the gaps that may exist due to differences in practice from your experience and the Canadian experience in Radiography\n2. To introduce the CAMRT Competency Profile with a focus on the Professional Practice\, Patient Management\, and Skeletal Modules as applied to practice in a Canadian healthcare work environment\n3. To develop a systematic approach to radiographic image analysis\n4. To introduce Computed Tomography image processing principles: windowing and Multiplanar reconstruction.\n5 to Review CT relational anatomy images of the head\, chest\, abdomen and pelvis\n6. To introduce common contrast media studies (barium\, iodinated)\n7. To test your knowledge through a competency based Quiz. \nScroll Down   to Register Online (credit card or paypal)\, or download the Registration Form (Cheque)  \n\n			\n				\n			\n			Audience\n		\n\n		\n			Objectives\n		\n\n		\n			Speakers\n		\n\n		\n			Schedule\n		\n\n		\n			Location\n		\n		 \n\n		\n			\n				\n					\n			Internationally Educated Medical Radiation Technologists (IEMRT)\n		\n\n		\n			\n1) To identify the gaps that may exist due to differences in practice from your experience and the Canadian experience in Radiography\n2) To introduce the CAMRT Competency Profile with a focus on the Professional Practice and Patient Management Modules as applied to practice in a Canadian healthcare work environment\n3) To develop a systematic approach to radiographic image analysis\n4) To test your knowledge through a competency based Quiz\n\n		\n\n		\n			\n\n\n\n \nVALENTINA AL HAMOUCHE MRT (R)\, MSc.; CEO VCA Education \n\n\n \nSHEETAL RUPARELIA MRT(R) \n\n\n\n\n		 \n\n		\n			 \n		\n\n		\n			Accessible by TTC : Buses No 25\, 185\, 54\, or 162
URL:https://vcaeducation.ca/event/bridging-gap-canadian-professional-practice-radiography-2/
LOCATION:Better Living – The Donway W Toronto\, 1 Overland Dr.\, Toronto\, Ontario\, M3C 2C3\, Canada
GEO:43.7324815;-79.3467684
X-APPLE-STRUCTURED-LOCATION;VALUE=URI;X-ADDRESS=Better Living – The Donway W Toronto 1 Overland Dr. Toronto Ontario M3C 2C3 Canada;X-APPLE-RADIUS=500;X-TITLE=1 Overland Dr.:geo:-79.3467684,43.7324815
END:VEVENT
BEGIN:VEVENT
DTSTART;TZID=America/Toronto:20170910T130000
DTEND;TZID=America/Toronto:20170910T170000
DTSTAMP:20260423T232927
CREATED:20170822T195055Z
LAST-MODIFIED:20170828T052136Z
UID:10000125-1505048400-1505062800@vcaeducation.ca
SUMMARY:Bridging the Gap with the Canadian Professional Practice in Radiography
DESCRIPTION:VENUE: 1 Overland Dr. TORONTO\, ON M3C 2C3 + Map \n\n\n\nRegistration \n$80 (+HST)\n\n\n\n\n  \nAbout the Tutorial \nThe focus of this Tutorial for IEMRT is the Canadian Professional Practice in Radiography; the tutorial objectives include:\n1.    To identify the gaps that may exist due to differences in practice from your experience and the Canadian experience in Radiography\n2.    To introduce the CAMRT Competency Profile with a focus on the Professional Practice and Patient Management Modules as applied to practice in a Canadian healthcare work environment\n3.    To develop a systematic approach to radiographic image analysis\n4.    To test your knowledge through a competency based Quiz.\n \nScroll Down   to Register Online (credit card or paypal)\, or download the Registration Form (Cheque)  \n\n			\n				\n			\n			Audience\n		\n\n		\n			Objectives\n		\n\n		\n			Speakers\n		\n\n		\n			Schedule\n		\n\n		\n			Location\n		\n		 \n\n		\n			\n				\n					\n			Internationally Educated Medical Radiation Technologists (IEMRT)\n		\n\n		\n			\n1) To identify the gaps that may exist due to differences in practice from your experience and the Canadian experience in Radiography\n2) To introduce the CAMRT Competency Profile with a focus on the Professional Practice and Patient Management Modules as applied to practice in a Canadian healthcare work environment\n3) To develop a systematic approach to radiographic image analysis\n4) To test your knowledge through a competency based Quiz\n\n		\n\n		\n			\n\n\n\n \nVALENTINA AL HAMOUCHE MRT (R)\, MSc.; CEO VCA Education \n\n\n \nSHEETAL RUPARELIA MRT(R) \n\n\n\n\n		 \n\n		\n			 \n		\n\n		\n			Accessible by TTC : Buses No 25\, 185\, 54\, or 162
URL:https://vcaeducation.ca/event/bridging-gap-canadian-professional-practice-radiography/
LOCATION:Better Living – The Donway W Toronto\, 1 Overland Dr.\, Toronto\, Ontario\, M3C 2C3\, Canada
GEO:43.7324815;-79.3467684
X-APPLE-STRUCTURED-LOCATION;VALUE=URI;X-ADDRESS=Better Living – The Donway W Toronto 1 Overland Dr. Toronto Ontario M3C 2C3 Canada;X-APPLE-RADIUS=500;X-TITLE=1 Overland Dr.:geo:-79.3467684,43.7324815
END:VEVENT
END:VCALENDAR