BEGIN:VCALENDAR
VERSION:2.0
PRODID:-//VCA Education - ECPv6.15.20//NONSGML v1.0//EN
CALSCALE:GREGORIAN
METHOD:PUBLISH
X-ORIGINAL-URL:https://vcaeducation.ca
X-WR-CALDESC:Events for VCA Education
REFRESH-INTERVAL;VALUE=DURATION:PT1H
X-Robots-Tag:noindex
X-PUBLISHED-TTL:PT1H
BEGIN:VTIMEZONE
TZID:America/Toronto
BEGIN:DAYLIGHT
TZOFFSETFROM:-0500
TZOFFSETTO:-0400
TZNAME:EDT
DTSTART:20250309T070000
END:DAYLIGHT
BEGIN:STANDARD
TZOFFSETFROM:-0400
TZOFFSETTO:-0500
TZNAME:EST
DTSTART:20251102T060000
END:STANDARD
BEGIN:DAYLIGHT
TZOFFSETFROM:-0500
TZOFFSETTO:-0400
TZNAME:EDT
DTSTART:20260308T070000
END:DAYLIGHT
BEGIN:STANDARD
TZOFFSETFROM:-0400
TZOFFSETTO:-0500
TZNAME:EST
DTSTART:20261101T060000
END:STANDARD
BEGIN:DAYLIGHT
TZOFFSETFROM:-0500
TZOFFSETTO:-0400
TZNAME:EDT
DTSTART:20270314T070000
END:DAYLIGHT
BEGIN:STANDARD
TZOFFSETFROM:-0400
TZOFFSETTO:-0500
TZNAME:EST
DTSTART:20271107T060000
END:STANDARD
END:VTIMEZONE
BEGIN:VEVENT
DTSTART;TZID=America/Toronto:20260711T100000
DTEND;TZID=America/Toronto:20260822T124500
DTSTAMP:20260423T122701
CREATED:20260206T195939Z
LAST-MODIFIED:20260206T195953Z
UID:10000288-1783764000-1787402700@vcaeducation.ca
SUMMARY:A Series of 13 Live Webinars - Bridging the Gap with the Canadian Professional Practice in Radiography-Summer 2026
DESCRIPTION:  \n\n\n\n\n\n\n\n\n\nA Series of 13 LIVE Webinars – Starting July 11 2026\n(webinars are not recorded)\n\nThe focus of these webinars for IEMRT is the Canadian Professional Practice in Radiography;\nAt the end of each webinar you will have a Competency Based QUIZ.\nAlso VCA Education offers private individual webinars tailored to your needs\, email valhamouche@vcaeducation.ca for more information.\nTo register for specific webinars only\, email valhamouche@vcaeducation.ca.\n\nFor MRI and Radiation Therapy exam preparation email valhamouche@vcaeducation.ca for more information.\nOne week before the event you will receive an email with the Zoom enrolment details. If you don’t receive that email\, please check your email spam box or email us at Valhamouche@vcaeducation.ca\n\nDownload the Schedule  \n \nDownload Schedule \nScroll Down  \, click on the + sign and Get Tickets to Register Online (credit card or paypal)  \n\n			\n				\n			\n			Audience\n		\n\n		\n			Schedule\n		 \n		 \n\n		\n			\n				\n					\n			Internationally Educated Medical Radiation Technologists (IEMRT)\n		 \n\n		\n			At the end of each webinar you will have a Competency Based QUIZ.
URL:https://vcaeducation.ca/event/a-series-of-13-live-webinars-bridging-the-gap-with-the-canadian-professional-practice-in-radiography-summer-2026/
LOCATION:Online\, Toronto\, Ontario\, Canada
CATEGORIES:Bridging The Gap
GEO:43.653226;-79.3831843
END:VEVENT
END:VCALENDAR